{"text_format":"1","workbook":"xlsx","n_sheets":2,"sheets":["Druckblatt","Daten"],"not_rendered":{"charts":0,"images":0,"macros":1,"external_links":0,"defined_names":1,"comments":0,"pivot_tables":0},"unopened":[],"bounds":{"document_bytes":16777216,"sheet_cells":100000,"rows_first":2000,"rows_last":500,"rows_between":2000,"halvings":0,"cell_chars":16384,"cell_head_chars":4096},"cells_cut":0,"cells_raw":0,"read":"whole","date_system":"1900"}

{"sheet":"Druckblatt","index":0,"n_rows":18,"n_cols":13,"rows_kept":18,"cut":false,"hidden":false,"merged":[[0,0,0,13],[2,0,2,1],[2,3,2,4],[2,6,2,7],[2,9,2,10],[2,12,2,13],[10,12,10,13],[9,9,9,10],[8,6,8,7],[7,3,7,4],[6,0,6,1]]}
["Rechenhäuser"]
[]
[1,null,null,2,null,null,3,null,null,4,null,null,5]
[0,null,null,{"$f":"Daten!C4","v":2},null,null,{"$f":"Daten!C7","v":1},null,null,{"$f":"Daten!C11","v":1},null,null,{"$f":"Daten!C16","v":1}]
[1,null,null,{"$f":"Daten!C5","v":0},null,null,{"$f":"Daten!C8","v":3},null,null,{"$f":"Daten!C12","v":0},null,null,{"$f":"Daten!C17","v":2}]
[null,null,null,{"$f":"Daten!C6","v":1},null,null,{"$f":"Daten!C9","v":0},null,null,{"$f":"Daten!C13","v":2},null,null,{"$f":"Daten!C18","v":3}]
[10,null,null,null,null,null,{"$f":"Daten!C10","v":2},null,null,{"$f":"Daten!C14","v":4},null,null,{"$f":"Daten!C19","v":4}]
[{"$f":"Daten!C56","v":8},null,null,9,null,null,null,null,null,{"$f":"Daten!C15","v":3},null,null,{"$f":"Daten!C20","v":5}]
[{"$f":"Daten!C57","v":10},null,null,{"$f":"Daten!C46","v":3},null,null,8,null,null,null,null,null,{"$f":"Daten!C21","v":0}]
[{"$f":"Daten!C58","v":1},null,null,{"$f":"Daten!C47","v":6},null,null,{"$f":"Daten!C37","v":5},null,null,7]
[{"$f":"Daten!C59","v":2},null,null,{"$f":"Daten!C48","v":1},null,null,{"$f":"Daten!C38","v":4},null,null,{"$f":"Daten!C29","v":2},null,null,6]
[{"$f":"Daten!C60","v":0},null,null,{"$f":"Daten!C49","v":8},null,null,{"$f":"Daten!C39","v":2},null,null,{"$f":"Daten!C30","v":1},null,null,{"$f":"Daten!C22","v":6}]
[{"$f":"Daten!C61","v":4},null,null,{"$f":"Daten!C50","v":2},null,null,{"$f":"Daten!C40","v":1},null,null,{"$f":"Daten!C31","v":4},null,null,{"$f":"Daten!C23","v":3}]
[{"$f":"Daten!C62","v":6},null,null,{"$f":"Daten!C51","v":5},null,null,{"$f":"Daten!C41","v":6},null,null,{"$f":"Daten!C32","v":5},null,null,{"$f":"Daten!C24","v":1}]
[{"$f":"Daten!C63","v":3},null,null,{"$f":"Daten!C52","v":0},null,null,{"$f":"Daten!C42","v":3},null,null,{"$f":"Daten!C33","v":3},null,null,{"$f":"Daten!C25","v":5}]
[{"$f":"Daten!C64","v":7},null,null,{"$f":"Daten!C53","v":4},null,null,{"$f":"Daten!C43","v":0},null,null,{"$f":"Daten!C34","v":6},null,null,{"$f":"Daten!C26","v":0}]
[{"$f":"Daten!C65","v":5},null,null,{"$f":"Daten!C54","v":9},null,null,{"$f":"Daten!C44","v":7},null,null,{"$f":"Daten!C35","v":7},null,null,{"$f":"Daten!C27","v":4}]
[{"$f":"Daten!C66","v":9},null,null,{"$f":"Daten!C55","v":7},null,null,{"$f":"Daten!C45","v":8},null,null,{"$f":"Daten!C36","v":0},null,null,{"$f":"Daten!C28","v":2}]

{"sheet":"Daten","index":1,"n_rows":66,"n_cols":3,"rows_kept":66,"cut":false,"hidden":false,"merged":[]}
["Haus",null,"Zahl"]
[1,{"$f":"RAND()","v":0.25134234820710111},0]
[1,{"$f":"RAND()","v":0.60838518429257671},1]
[2,{"$f":"RAND()","v":0.26375242412677602},2]
[2,{"$f":"RAND()","v":0.23194343963729214},0]
[2,{"$f":"RAND()","v":0.43449997170514543},1]
[3,{"$f":"RAND()","v":0.77638017156652206},1]
[3,{"$f":"RAND()","v":0.57083986817017707},3]
[3,{"$f":"RAND()","v":0.53570680371441914},0]
[3,{"$f":"RAND()","v":2.0060343089589927E-2},2]
[4,{"$f":"RAND()","v":0.19461255629899654},1]
[4,{"$f":"RAND()","v":0.96902169103094782},0]
[4,{"$f":"RAND()","v":0.76738132841139561},2]
[4,{"$f":"RAND()","v":0.59572261856700026},4]
[4,{"$f":"RAND()","v":0.91235642603812483},3]
[5,{"$f":"RAND()","v":0.34125933182243495},1]
[5,{"$f":"RAND()","v":0.93663058192939885},2]
[5,{"$f":"RAND()","v":0.98424888701399482},3]
[5,{"$f":"RAND()","v":0.55846385064035742},4]
[5,{"$f":"RAND()","v":0.23240291948549441},5]
[5,{"$f":"RAND()","v":0.89510258168835277},0]
[6,{"$f":"RAND()","v":0.54723499996393721},6]
[6,{"$f":"RAND()","v":0.20729071910155072},3]
[6,{"$f":"RAND()","v":0.38881873740182638},1]
[6,{"$f":"RAND()","v":0.54643411243965467},5]
[6,{"$f":"RAND()","v":9.206570255055524E-2},0]
[6,{"$f":"RAND()","v":0.92998896921319929},4]
[6,{"$f":"RAND()","v":0.96542663261910822},2]
[7,{"$f":"RAND()","v":0.66953317971207049},2]
[7,{"$f":"RAND()","v":0.87635624915636456},1]
[7,{"$f":"RAND()","v":0.40445824109150508},4]
[7,{"$f":"RAND()","v":0.65106756490060103},5]
[7,{"$f":"RAND()","v":0.23022695507326196},3]
[7,{"$f":"RAND()","v":0.82673982016586833},6]
[7,{"$f":"RAND()","v":0.73400901431154986},7]
[7,{"$f":"RAND()","v":0.26165573291327104},0]
[8,{"$f":"RAND()","v":0.53362460143186641},5]
[8,{"$f":"RAND()","v":0.63547404205102309},4]
[8,{"$f":"RAND()","v":0.49741013654806854},2]
[8,{"$f":"RAND()","v":2.935817124566531E-2},1]
[8,{"$f":"RAND()","v":0.99257062063482926},6]
[8,{"$f":"RAND()","v":0.29711757816794138},3]
[8,{"$f":"RAND()","v":0.69284440128226876},0]
[8,{"$f":"RAND()","v":0.92323350269313731},7]
[8,{"$f":"RAND()","v":0.86243142005461382},8]
[9,{"$f":"RAND()","v":0.53610688333232226},3]
[9,{"$f":"RAND()","v":0.77256863378442642},6]
[9,{"$f":"RAND()","v":0.1042584331112888},1]
[9,{"$f":"RAND()","v":0.87881500820921432},8]
[9,{"$f":"RAND()","v":8.2961989285287308E-2},2]
[9,{"$f":"RAND()","v":0.42899523638651738},5]
[9,{"$f":"RAND()","v":0.74857222732458906},0]
[9,{"$f":"RAND()","v":1.2716988243783867E-3},4]
[9,{"$f":"RAND()","v":0.50099902098350058},9]
[9,{"$f":"RAND()","v":0.60103556305920169},7]
[10,{"$f":"RAND()","v":0.74906257910206853},8]
[10,{"$f":"RAND()","v":0.14301690279566925},10]
[10,{"$f":"RAND()","v":0.55396406010698129},1]
[10,{"$f":"RAND()","v":0.96335704611309536},2]
[10,{"$f":"RAND()","v":0.27949773985883297},0]
[10,{"$f":"RAND()","v":0.86968648064431209},4]
[10,{"$f":"RAND()","v":0.50255085953733314},6]
[10,{"$f":"RAND()","v":0.87662701451062541},3]
[10,{"$f":"RAND()","v":0.1564822002272992},7]
[10,{"$f":"RAND()","v":0.59289053672455294},5]
[10,{"$f":"RAND()","v":0.71970382486498519},9]